BEGIN:VCALENDAR
VERSION:2.0
PRODID:-//Tukios.com/
BEGIN:VEVENT
UID:49b5ff79-7ff7-42f3-b87f-bff9b2e984a2@www.meridianmortuary.com
DTSTAMP:20260420T205805Z
DTSTART:20260502T200000Z
DTEND:20260502T210000Z
SUMMARY:Memorial Service
DESCRIPTION:
URL:https://www.meridianmortuary.com/obituaries/terry-mills
LOCATION: 23 N Seneca Ave  Newcastle WY 82701
GEO:43.8556023;-104.2044889
END:VEVENT
END:VCALENDAR